BEGIN:VCALENDAR
VERSION:2.0
X-WR-CALNAME:www.indybay.org
PRODID:-//indybay/ical// v1.0//EN
BEGIN:VEVENT
UID:Indybay-18850500
SEQUENCE:19012526
CREATED:20220615T225700Z
DESCRIPTION:On the 53rd anniversary of the Stonewall Rebellion, join the Bay Area Party 
 for Socialism and Liberation in a conversation about the militant struggle 
 to overturn centuries of LGBTQ oppression.\n\nUnderstanding this history is 
 the key to how we can defeat the current right wing campaign to roll back 
 LGBTQ people's hard-won rights and criminalize our very existence. We 
 cannot rely on the Democrats, whose answer to these right wing attacks is 
 to use us as props in their fundraising campaigns while doing nothing with 
 their majority in Congress to actually fight back.\n\nJoin us to learn how 
 you can get involved in the struggle for real LGBTQ liberation!\n\nFor 
 in-person attendance, mask and vaccination are required.\n 
 https://www.indybay.org/newsitems/2022/06/15/18850500.php
SUMMARY:Forum: Pride Month & Revolutionary LGBTQ Struggle
LOCATION:In-person: 2969 Mission St, SF\nVirtual: https://bit.ly/pride-means-resist
URL:https://www.indybay.org/newsitems/2022/06/15/18850500.php
DTSTART:20220618T020000Z
DTEND:20220618T033000Z
END:VEVENT
END:VCALENDAR
