BEGIN:VCALENDAR
VERSION:2.0
X-WR-CALNAME:www.indybay.org
PRODID:-//indybay/ical// v1.0//EN
BEGIN:VEVENT
UID:Indybay-18850464
SEQUENCE:19012470
CREATED:20220614T023300Z
DESCRIPTION:Fulfilling the Promise of America\n\n“We hold these truths to be 
 self-evident,\nThat all men are created equal,\nThat they are endowed by 
 their Creator\nwith certain unalienable rights,\nThat among these are 
 Life,\nLiberty\nand the pursuit of Happiness”\n\nYou’re invited to a 
 symposium on\nthe ambitious meaning of the\nPreamble to the Declaration of 
 Independence,\ndeliberating what is meant now by “all men”\nand by 
 “the unalienable [right to] life”\n\nLive: July 2, 3-5 pm  Notable 
 House, 189 Ellsworth San Francisco\nVirtual: July 3, ZOOM,  Noon Pacific 
 time 
 https://zoom.us/j/94131824284?pwd=RzI0ZEY1eEkrbkxFemNOMHFHbUZXZz09\n\n\nThere 
 is an argument to be made that the USA was born of a cosmic ideal, 
 expressed above in the quote from \n                         The 
 Declaration of Independence.\n\nThere are those who assert that the nation 
 loses its status as a frontline leader when it falters in expanding the 
 inclusionary sense of the phrase “all men,” and when the meaning of the 
 “right to life” is abstracted from equality of access to land. This 
 symposium affords you the opportunity to deliberate these points.\n\nHosted 
 by The CommonsSF    www.TheCommonsSF.org \n415-948-4265\n\n 
 https://www.indybay.org/newsitems/2022/06/13/18850464.php
SUMMARY:Fulfilling the Promise of America, a symposium
LOCATION:ZOOM video 
 meet:\nhttps://zoom.us/j/94131824284?pwd=RzI0ZEY1eEkrbkxFemNOMHFHbUZXZz09
URL:https://www.indybay.org/newsitems/2022/06/13/18850464.php
DTSTART:20220703T190000Z
DTEND:20220703T203000Z
END:VEVENT
END:VCALENDAR
