BEGIN:VCALENDAR
VERSION:2.0
X-WR-CALNAME:www.indybay.org
PRODID:-//indybay/ical// v1.0//EN
BEGIN:VEVENT
UID:Indybay-18849433
SEQUENCE:19010964
CREATED:20220503T184600Z
DESCRIPTION:PROTECT ROE AND SHOW UP FOR ABORTION RIGHTS!\nPledge to rally for 
 Roe:\n\nOn Tuesday, May 3 at 5pm, local time, we're calling on Women's 
 March supporters across the country to head to your local federal 
 courthouse, federal building, town hall, or town square. We're showing up 
 to defend abortion rights, say bans off our bodies, and demand elected 
 officials take action before the right-wing justices on the Supreme Court 
 overturn Roe v. Wade. Bring your families, your signs, your stories, your 
 heart, and your commitment to save Roe and access to safe and legal 
 abortion for all who need it.\n\nThese rapid actions are in response to the 
 reports that right-wing justices are planning to completely overturn Roe. 
 We'll show up on Tuesday — and keep showing up in larger and larger 
 actions in the days, weeks, and months to come.\n\nPlease add your name and 
 pledge to rally for 
 Roe:\nhttps://act.womensmarch.com/sign/roe-rally-pledge/\n 
 https://www.indybay.org/newsitems/2022/05/03/18849433.php
SUMMARY:Santa Cruz Rally to Protect Roe v. Wade
LOCATION:Santa Cruz County Courthouse\n701 Ocean Street, Santa Cruz
URL:https://www.indybay.org/newsitems/2022/05/03/18849433.php
DTSTART:20220504T000000Z
DTEND:20220504T000000Z
END:VEVENT
END:VCALENDAR
