BEGIN:VCALENDAR
VERSION:2.0
X-WR-CALNAME:www.indybay.org
PRODID:-//indybay/ical// v1.0//EN
BEGIN:VEVENT
UID:Indybay-18849122
SEQUENCE:19010490
CREATED:20220419T062300Z
DESCRIPTION:The 22nd Annual Middle Eastern Heritage Celebration presents\n\nGlobal 
 Geopolitics from Ukraine to the Middle East:\nLessons and Reverberations in 
 an Interconnected World\n\nA talk by Dr. Sharat G. Lin\n\nAs war rages in 
 Ukraine, severing key global supply chains, disrupting trade, investment, 
 and monetary flows in a globalized world, the geopolitical reverberations 
 are being felt throughout the world, including in the Middle East which has 
 been another hub of conflict and strategic geopolitics. What does this mean 
 for us and for global realignments? Will it evolve into an new world 
 order?\n\nDr. Sharat G. Lin a political economist, writer, educator, 
 artist, photojournalist, and research fellow at Human Agenda and the 
 Initiative for Equality\n\nOpen to All\n\nFor more information contact: 
 sami.ibrahim@sjcc.edu\n\nSponsored by the SJCC President's Office, the 
 SJECCD District Office, Professor Sami Ibrahim, and the Diversity Advisory 
 Committee\n https://www.indybay.org/newsitems/2022/04/18/18849122.php
SUMMARY:Global Geopolitics from Ukraine to the Middle East
LOCATION:Join Zoom meeting: https://sjeccd-edu.zoom.us/j/5088214551\nZoom meeting 
 ID: 508 821 4551\nInternational dial-in numbers available: 
 https://zoom.us/u/aM3amGqtL
URL:https://www.indybay.org/newsitems/2022/04/18/18849122.php
DTSTART:20220420T200000Z
DTEND:20220420T213000Z
END:VEVENT
END:VCALENDAR
