BEGIN:VCALENDAR
VERSION:2.0
X-WR-CALNAME:www.indybay.org
PRODID:-//indybay/ical// v1.0//EN
BEGIN:VEVENT
UID:Indybay-18848764
SEQUENCE:19010013
CREATED:20220323T155900Z
DESCRIPTION:#PeopleNotProfit! Global Climate Strike - March in Fremont\n\nWho: Youth 
 and allies in the community\n\nWhen: Saturday, March 26 @ noon - 1 
 PM\n\nWhere: Irvington Park, 41825 Blacow Rd, Fremont, CA 94538\n\nMore 
 info: https://www.instagram.com/p/CbW6i9uOUTu/\n\nThis peaceful march is 
 part of a global day of climate emergency action: 
 https://fridaysforfuture.org/march25/\n\n\nOn March 26th (12-1 pm), at 
 Irvington Park, we will be fighting for climate justice. \nRedefine Z and 
 its members will be marching in support of the @fridaysforfuture 
 #peoplenotprofit movement, and the global youth climate activism movement! 
 \n\nPlease join us and spread the word!\n\n⚠️ Safety will always be our 
 biggest priority; the Fremont police department has been notified about 
 this and has approved our presence at the park!\n\n❗️ Any form of hate 
 speech, violence, or property damage is strictly off limits; YOU are 
 responsible for your own actions ❗️\n\n😷 Masks are encouraged but 
 not mandated; use your best judgement and respect other people’s 
 boundaries.\n\nContact the organizer @phi_c10 for any 
 questions!\n\n#redefinez #climatestrike #fridaysforfuture 
 #fridaysforfutureusa \n#fridaysforfuturecalifornia #climatemarch 
 #climateaction\n\n\nABOUT: Redefine 
 Z\n\nhttps://www.instagram.com/redefine.zed/\n\nRedefine Z, a 501(c)(3) 
 student-led social justice organization with the objective to host peaceful 
 activism events across the globe. This includes organizing and launching 
 marches, strikes, rallies, webinars, fundraisers, and art activism events 
 to both spread awareness and spurr change. \n 
 https://www.indybay.org/newsitems/2022/03/23/18848764.php
SUMMARY:Fremont: #People Not Profit! Global Climate Strike
LOCATION:Irvington Park, 41825 Blacow Rd, Fremont, CA 94538\n\nMasks recommended. 
 Peaceful march for climate justice.
URL:https://www.indybay.org/newsitems/2022/03/23/18848764.php
DTSTART:20220326T190000Z
DTEND:20220326T200000Z
END:VEVENT
END:VCALENDAR
