BEGIN:VCALENDAR
VERSION:2.0
X-WR-CALNAME:www.indybay.org
PRODID:-//indybay/ical// v1.0//EN
BEGIN:VEVENT
UID:Indybay-18848594
SEQUENCE:19009762
CREATED:20220310T220500Z
DESCRIPTION:Join us as Root Division commemorates 20 years of cultivating 
 community-minded artists and arts-minded community. To mark this historic 
 milestone, the organization will present a variety of inclusive 
 festivities, artist-made gifts, and more! \n\nWe have an exciting line-up 
 of events and special projects starting with the 20-Year Anniversary Kick 
 Off Event on Saturday, April 9!  This will include the public opening 
 reception for the "20-Year Anniversary Alumni Exhibition" featuring 20 
 alums from Root Division’s Studios Program. The exhibition includes an 
 impressive selection of work in a variety of media including painting, 
 photography, sculpture, installation, and more. \n\nThe cohort of 
 exhibiting artists represents the 20-Year history of Root Division as an 
 incubator for emerging artists. The span illuminates the connectivity and 
 pathways to other arts organizations, awards, and galleries–SFMOMA SECA 
 nominees; artists in residence with Headlands, Recology AIR, Facebook, 
 KALA, and Local Language;  California Arts Council, SF Arts Commission, and 
 Kearny Street Workshop Aperture awardees; and gallery partners such as 
 Catharine Clark, Rena Bransten, and Eleanor Harwood.\n\n\nThe 2nd Saturday 
 reception is free with registration and open to the public from 7-9 pm. 
 \nThere is a VIP Reception with treats, cocktails, and access to open 
 artist studios from 5-7 pm.\n\nFor more information and to RSVP, visit: 
 https://rootdivision.org/20-yr-anniversary/\n 
 https://www.indybay.org/newsitems/2022/03/10/18848594.php
SUMMARY:Root Division's 20-Year Anniversary Exhibition + Celebration
LOCATION:Root Division\n1131 Mission St, San Francisco, CA 94103
URL:https://www.indybay.org/newsitems/2022/03/10/18848594.php
DTSTART:20220410T020000Z
DTEND:20220410T040000Z
END:VEVENT
END:VCALENDAR
