BEGIN:VCALENDAR
VERSION:2.0
X-WR-CALNAME:www.indybay.org
PRODID:-//indybay/ical// v1.0//EN
BEGIN:VEVENT
UID:Indybay-18848316
SEQUENCE:19009284
CREATED:20220301T172900Z
DESCRIPTION:SAN MATEO SIDEWALK RALLY\n\nJoin the Global Day of Action: \nStop the War 
 in Ukraine! Russian Troops Out! No to NATO Expansion!\n\n WHEN: March 5, 
 2022 at 3:00pm - 4:00pm (PST)\n\nWHERE: Sidewalk rally - corner of Third 
 Ave and El Camino Real, San Mateo, CA 94401\n\nMore info & RSVP: 
 https://www.peaceinukraine.org/298945/stand_with_the_people_of_ukraine\n\nGlobal 
 Action website w/ event map: https://www.peaceinukraine.org/\n\n\nAn 
 international anti-war zoom rally on February 26 attended by thousands and 
 organized \nby CODEPINK, Stop the War Coalition, the Campaign for Nuclear 
 Disarmament and \nthe No To NATO network agreed to an international day of 
 anti-war action. \n\n(WATCH RALLY RECORDING HERE: 
 https://www.peaceinukraine.org/about)\n\nWe call on everyone who opposes 
 this war to take to the streets in a massive display of global opposition 
 to the war and the warmongers. The war in Ukraine is a disaster for the 
 people of Ukraine and a terrible threat to us all, including increasing the 
 danger of nuclear war. \n\nWe oppose the Russian invasion and call for the 
 immediate withdrawal of all Russian troops. We recognize that the expansion 
 of NATO and the aggressive approach of Western states have helped cause the 
 crisis and we demand an end to NATO expansion. We also oppose sanctions 
 that will harm ordinary Russians and call on all countries to welcome 
 refugees fleeing the war.\n\nThere have already been many anti-war 
 demonstrations in Russia and many other countries. What we need now is a 
 massive, unified response by peace-loving people around the world to say No 
 to War in Ukraine; Yes to Negotiations and Peace!\n\n\n**Local 
 Organizations - SF Bay Area**\n\nSan Francisco Bay Physicians for Social 
 Responsibility\nPeace Action San Mateo County\n\n**National and 
 International Organizations**\n\nBackbone Campaign\nCampaign for Nuclear 
 Disarmament\nCODEPINK\nCommunity Peacemaker Teams\nFINETSE Haiti\nFood Not 
 Bombs\nNo to NATO Coalition\nPeace Action\nPeace and Planet News\nPlanet 
 Versus Pentagon\nProposition One Campaign for a Nuclear-Free 
 Future\nSolidarityINFOService\nStop the War Coalition\nUnited for Peace and 
 Justice\nV-Day\nWomen's Alliance for Theology, Ethics, and Ritual 
 (WATER)\nWomen Against Military Madness \nWomen's International League for 
 Peace and Freedom US\nWomen Transforming Our Nuclear Legacy\nWorld Beyond 
 War\n\n**Local Organizations - U.S.**\n\nBaltimore Nonviolence 
 Center\nFranklin County Continuing the Political Revolution\nNew Hampshire 
 Veterans for Peace\nOregon Physicians for Social Responsibility\nPeace 
 Action Bay Ridge\nPeace Action WQI\nPhysicians for Social Responsibility 
 Arizona \nSafe Skies Clean Water Wisconsin\nVeterans For Peace, Chapter 9 E 
 Massachusetts, Smedley Butler Brigade\nVeterans For Peace Chapter 
 111L\nVeterans For Peace-Chapter 113-Hawaii\nVeterans For Peace Linus 
 Pauling Chapter 132\nVeterans For Peace - Santa Fe Chapter\n\n 
 https://www.indybay.org/newsitems/2022/03/01/18848316.php
SUMMARY:San Mateo: Global Action to Stand w/ the People of Ukraine Sidewalk Rally
LOCATION:Sidewalk rally: corner of Third Ave and El Camino Real , San Mateo, CA 
 94401
URL:https://www.indybay.org/newsitems/2022/03/01/18848316.php
DTSTART:20220305T230000Z
DTEND:20220306T000000Z
END:VEVENT
END:VCALENDAR
