BEGIN:VCALENDAR
VERSION:2.0
X-WR-CALNAME:www.indybay.org
PRODID:-//indybay/ical// v1.0//EN
BEGIN:VEVENT
UID:Indybay-18848034
SEQUENCE:19008911
CREATED:20220216T024000Z
DESCRIPTION:As domestic crises plague the US, this country's ruling class is looking 
 outward, warmongering abroad. Join us for a discussion on the role of NATO, 
 inter-imperialist conflict, and what the current Ukraine situation means 
 for the world at large.\n\nThis is a very open discussion. Please feel free 
 to come with articles, videos, or texts you think we should discuss. \n 
 https://www.indybay.org/newsitems/2022/02/15/18848034.php
SUMMARY:Roundtable Discussion: Ukraine Crisis
LOCATION:On Zoom! Link: rb.gy/bxhzue
URL:https://www.indybay.org/newsitems/2022/02/15/18848034.php
DTSTART:20220224T010000Z
DTEND:20220224T020000Z
END:VEVENT
END:VCALENDAR
