BEGIN:VCALENDAR
VERSION:2.0
X-WR-CALNAME:www.indybay.org
PRODID:-//indybay/ical// v1.0//EN
BEGIN:VEVENT
UID:Indybay-18847688
SEQUENCE:19008491
CREATED:20220202T021500Z
DESCRIPTION:Eye Zen Presents, Latinx Mafia, and SOL VIDA are delighted to announce the 
 upcoming gathering of FabLab playshops celebrating Queer, Black and 
 Indigenous ancestors of culture. This playshop is facilitated by FabLab 
 Teaching Artist, performer Enormvs Muñoz (he/him) on February 24, 2022 
 from 6pm-8pm PST. The playshop celebrates Kapaemāhū, a 15th century 
 māhū healer from Tahiti and Hawai‘i. Māhū are people embodying both 
 female and male gender traits. Kapaemāhū was renowned for their healing 
 gifts, experience, and wisdom. Playshop participants will have an 
 opportunity to experience lomi lomi (Hawaiian massage) and ‘ori Tahiti 
 (Tahitian dance).\n 
 https://www.indybay.org/newsitems/2022/02/01/18847688.php
SUMMARY:FabLab Playshop Kapaemāhū Email from Izaac Limon: FabLab Playshop Kapaemāhū
LOCATION:Intersection for the Arts\n1446 Market St\nSan Francisco, CA
URL:https://www.indybay.org/newsitems/2022/02/01/18847688.php
DTSTART:20220225T020000Z
DTEND:20220225T040000Z
END:VEVENT
END:VCALENDAR
