BEGIN:VCALENDAR
VERSION:2.0
X-WR-CALNAME:www.indybay.org
PRODID:-//indybay/ical// v1.0//EN
BEGIN:VEVENT
UID:Indybay-18847162
SEQUENCE:19007870
CREATED:20220108T000800Z
DESCRIPTION:Press Conference, Speakers, Rally to mark 20 years since the opening of the 
 Guantánamo Bay detention center. 780 men have been detained - all Muslim; 
 today, 39 men remain, most never charged with a crime. Thirteen have been 
 cleared for transfer, but are still imprisoned. Guantanamo is a place of 
 enduring violence against Muslims and an ongoing symbol of U.S. injustice 
 and torture, rendering meaningless America’s commitment to human rights, 
 the rule of law and basic ideas of fairness. Join CODEPINK and to demand 
 that the Biden administration keep its promise to #CloseGuantanamo for 
 good.\n https://www.indybay.org/newsitems/2022/01/07/18847162.php
SUMMARY:EVENT CANCELLED Rally & Press Conference to Close Guantanamo; 20 yrs of detention and torture
LOCATION:This event has been cancelled.
URL:https://www.indybay.org/newsitems/2022/01/07/18847162.php
DTSTART:20220111T203000Z
DTEND:20220111T213000Z
END:VEVENT
END:VCALENDAR
