BEGIN:VCALENDAR
VERSION:2.0
X-WR-CALNAME:www.indybay.org
PRODID:-//indybay/ical// v1.0//EN
BEGIN:VEVENT
UID:Indybay-18847105
SEQUENCE:19007598
CREATED:20220104T173900Z
DESCRIPTION:Join ProPublica on the anniversary of Jan. 6 as we examine potential 
 vulnerabilities \nin the 2022 election and the greatest threats to American 
 democracy.\n\nWhen: Thursday, Jan 6, 2022 @ noon PT (3 pm ET)\n\nWhere: 
 Virtual Event\n\nMore info & RSVP: 
 https://www.propublica.org/events/the-insurrection-one-year-later\n\nAs we 
 approach the one-year anniversary of the attack on the Capitol, ProPublica 
 has convened experts to discuss what the Jan. 6 protest-turned-invasion 
 means for our democracy and for the 2022 election year.\n\nHow organized 
 was the attack on the Capitol? What weaknesses in our democratic process 
 did Jan. 6 spotlight? What can be done to ensure safe and fair elections in 
 2022 and beyond? Our panelists will unpack these concerns and address 
 questions from the audience as well. \n\nOur panel includes:\n\n--Jennifer 
 Morrell, former local election official and election audit 
 expert\n\n--Jocelyn Benson, Secretary of State Michigan \n\n--Kai Wright, 
 host and managing editor of “United States of Anxiety”\n\n--Seamus 
 Hughes, deputy director of the program on extremism at George Washington 
 University\n\n--Stephen Engelberg, ProPublica editor in chief 
 (moderator)\n\n https://www.indybay.org/newsitems/2022/01/04/18847105.php
SUMMARY:The Insurrection One Year Later: The Threats to American Democracy w/ ProPublica
LOCATION:Online event
URL:https://www.indybay.org/newsitems/2022/01/04/18847105.php
DTSTART:20220106T200000Z
DTEND:20220106T210000Z
END:VEVENT
END:VCALENDAR
