BEGIN:VCALENDAR
VERSION:2.0
X-WR-CALNAME:www.indybay.org
PRODID:-//indybay/ical// v1.0//EN
BEGIN:VEVENT
UID:Indybay-18846991
SEQUENCE:19007448
CREATED:20211231T002900Z
DESCRIPTION:Defend Democracy January 6th - Voter Contact Text Bank with Women's March 
 Foundation\n\nThursday, Jan. 6 @ 3 - 5 PM PT\n\nRSVP: 
 https://www.mobilize.us/womensmarchaction/event/434427\n\nWebsite here: 
 https://jan6unityday.org/\n\nThis event is part of the nationwide day of 
 remembrance and action by the Jan6 Unity Day Coalition, comprised of 100+ 
 organizations - including Women's March Foundation - for democracy, voting 
 rights justice, and more. \n\n\nJoin Women’s March Foundation and our 
 2022 program to Defend Democracy.\n\nAs the Nation grapples with the 
 Insurrection that took place on January 6th, we are rolling up our sleeves 
 and doubling down on Democracy.\n\nJanuary 6th is our Call to Defend 
 Democracy. We are focusing on voter contact and reaching those 9 million 
 voters that have moved across the country. We are registering folks across 
 the country to make sure that we don’t leave a stone unturned.\n\nVoting 
 is the single most important thing we can do to continue to thrive as a 
 Democracy.\n\nWill you join us in our effort to contact Voters in 
 2022?\n\nOn January 6th we will be contacting voters in California, Texas 
 and Georgia. All states that have seen significant growth or decline in 
 voters due to the pandemic.\n\n Women's March Foundation is a 501c(3) 
 organization focusing on social justice and civic engagement on a national 
 level. \n https://www.indybay.org/newsitems/2021/12/30/18846991.php
SUMMARY:Defend Democracy Jan. 6: Voter Contact Text Bank Action w/ Women's March Foundation
LOCATION:Virtual action - anyone can join in from anywhere
URL:https://www.indybay.org/newsitems/2021/12/30/18846991.php
DTSTART:20220106T230000Z
DTEND:20220107T010000Z
END:VEVENT
END:VCALENDAR
