BEGIN:VCALENDAR
VERSION:2.0
X-WR-CALNAME:www.indybay.org
PRODID:-//indybay/ical// v1.0//EN
BEGIN:VEVENT
UID:Indybay-18846720
SEQUENCE:19006997
CREATED:20211210T191100Z
DESCRIPTION:8th Annual Homeless Memorial: Candlelight Vigil & Reading of Names\n\nHost: 
 Sacramento Regional Coalition to End Homelessness and partners\n\nWhere: 
 Sacramento City Hall, 915 I St, Sacramento, CA 95814\n\nWhen: Dec. 21 @ 6 
 PM on National Homeless Memorial Day \n\nFlyer link: 
 https://www.srceh.org/_files/ugd/ee52bb_dfbf7701d68b449b98716459d6eba52d.pdf\n 
 https://www.indybay.org/newsitems/2021/12/10/18846720.php
SUMMARY:8th Annual Homeless Memorial: Candlelight Vigil & Reading of Names in Sacramento
LOCATION:Sacramento City Hall, 915 I St, Sacramento, CA 95814\n\nPlease wear a mask. 
  Follow COVID safety guidelines.
URL:https://www.indybay.org/newsitems/2021/12/10/18846720.php
DTSTART:20211222T020000Z
DTEND:20211222T030000Z
END:VEVENT
END:VCALENDAR
