BEGIN:VCALENDAR
VERSION:2.0
X-WR-CALNAME:www.indybay.org
PRODID:-//indybay/ical// v1.0//EN
BEGIN:VEVENT
UID:Indybay-18846533
SEQUENCE:19006760
CREATED:20211201T191300Z
DESCRIPTION:The forces of imperialism operate around the globe and use a variety of 
 tactics: from destabilization attempts in Cuba, aimed at overthrowing 
 socialism, to controlling the narrative around climate change solutions at 
 the COP26 climate summit.\n\nFeatured speakers:\n*Gloria La Riva, 2020 
 Presidential Candidate for the PSL\n*Tina Landis, author of "Climate 
 Solutions Beyond Capitalism"\n\nCuba opened its borders to tourism on 
 November 15th, and planned counter-revolutionary actions failed to 
 materialize. Hear an eyewitness account of how socialist Cuba is recovering 
 economically while safeguarding the health of its people.\n\nAt the COP26 
 climate summit, the Global North once again ensured that corporate profits 
 were the priority. Hear how under socialism we can carry out 
 transformational change needed to reverse the climate 
 crisis.\n\n***\nRegister here\n 
 https://www.indybay.org/newsitems/2021/12/01/18846533.php
SUMMARY:Virtual Forum: Imperialist tactics from Cuba to COP26
LOCATION:Virtual event! Register here
URL:https://www.indybay.org/newsitems/2021/12/01/18846533.php
DTSTART:20211204T030000Z
DTEND:20211204T043000Z
END:VEVENT
END:VCALENDAR
