BEGIN:VCALENDAR
VERSION:2.0
X-WR-CALNAME:www.indybay.org
PRODID:-//indybay/ical// v1.0//EN
BEGIN:VEVENT
UID:Indybay-18846452
SEQUENCE:19006649
CREATED:20211125T201900Z
DESCRIPTION:Abortion rights are under siege by the right wing in this country. The 
 reactionary-stacked Supreme Court is considering multiple cases which 
 threaten Roe v. Wade. On Wednesday, December 1st the U.S. Supreme Court is 
 scheduled to hear oral arguments in a Mississippi case banning abortions 
 after 15 weeks. The decision in this case could spell the end of Roe v. 
 Wade protections by allowing states to defy the federal ruling.\n\nRoe v. 
 Wade was passed due to a massive national movement organized to push for 
 legal rights to bodily autonomy and access to abortion services. We must 
 continue showing up in the streets to defend abortion rights!\n\nWe are 
 mobilizing across the country as part of an urgent national call to action 
 to defend the right to abortion! We call on congress to pass the Women’s 
 Health Protection Act and legalize abortion once and for All! End the 
 tug-of-war over fundamental rights!\n\nSign the petition!\n 
 https://www.indybay.org/newsitems/2021/11/25/18846452.php
SUMMARY:San Jose: Defend Roe v. Wade! National day of action
LOCATION:San Jose City Hall
URL:https://www.indybay.org/newsitems/2021/11/25/18846452.php
DTSTART:20211202T023000Z
DTEND:20211202T043000Z
END:VEVENT
END:VCALENDAR
