BEGIN:VCALENDAR
VERSION:2.0
X-WR-CALNAME:www.indybay.org
PRODID:-//indybay/ical// v1.0//EN
BEGIN:VEVENT
UID:Indybay-18846209
SEQUENCE:19006286
CREATED:20211109T221100Z
DESCRIPTION:As we celebrate Native American Heritage month, and for the need to connect 
 various communities, Disability Rights California’s Allies for All 
 Employee Resource Group will be hosting a public virtual event where we 
 speak truth to the intersectional topics of our \nNative Community through 
 the voices of our Elders to Youth.\n\nWhen: November 19, 2021 @ 1:00PM - 
 3:30 PM\n\nRSVP: 
 https://www.disabilityrightsca.org/post/webinar-speaking-truth-the-native-american-perspective\n\nSpeakers:\n\nJillian 
 Parramore\nAbility Advocate, Cherokee Nation\n\nRuben Garcia\nPomo 
 Indians-Manchester Band, Fresno American Indian Health Project\n\nLeticia 
 Aguilar\nPinoleville Pomo Nation, Native Sisters Circle, Native Dads 
 Network\n\nJoseph Eagle Knight\nNative American Congress Association 
 Member\n\nBlaine Edmo\nShoshone-Bannock Tribe, Fort Hall Indian Reservation 
 resident, Idaho\n https://www.indybay.org/newsitems/2021/11/09/18846209.php
SUMMARY:Speaking Truth: Native American Perspective on Indigenous Experience & Disability Rights
LOCATION:Virtual panel discussion
URL:https://www.indybay.org/newsitems/2021/11/09/18846209.php
DTSTART:20211119T210000Z
DTEND:20211119T230000Z
END:VEVENT
END:VCALENDAR
