BEGIN:VCALENDAR
VERSION:2.0
X-WR-CALNAME:www.indybay.org
PRODID:-//indybay/ical// v1.0//EN
BEGIN:VEVENT
UID:Indybay-18845850
SEQUENCE:19005753
CREATED:20211020T193700Z
DESCRIPTION:AfroComicCon 2021 Virtual on Weekend of Oct. 23-24\n\nAFCC 2021 Virtual: An 
 explosion of Superhero Black and Brown Excellence through\na Afrofuturistic 
 lens - get ready for an exciting ride!\n\nHost: Oakland Technology & 
 Education Center (non-profit organization)\n\nSaturday, October 23rd @ 10 
 am - 8 pm PT\n\nSunday, October 24th @ 10 am - 5 pm PT\n\nFREE event 
 streaming here: https://www.afrocomiccon.org/\n\nEvenbrite post: 
 https://www.eventbrite.com/e/afrocomiccon-2021-virtual-october-23rd-and-24th-2021-tickets-179557259597\n\nAfroComicCon 
 will be two days full of exciting panels, screenings of the AFCC 
 International Film Festival winners, entertainment, gaming, cosplay, and 
 special guests, as well as a\nvirtual marketplace!\n\nDue to COVID-19 
 concerns, the annual event started in 2017 by the ​Oakland Technology & 
 Education Center (OTEC) ​will be held virtually and FREE to the public 
 via the AfrocomicCon website.\n\n\nPROGRAMMING\n\nPanels are scheduled 
 across multiple interests including Comics, Writing, Animation, Fitness, 
 Community, and Writing. Each panel will be hosted by a thought leader in 
 each discipline including celebrity guests, industry experts, and 
 creatives.\n\nAlso, participants and fans of all ages will enjoy 
 entertainment throughout the day. Including a Live DJ stream, Film 
 Festival, musical guests, and a Virtual Cosplay 
 Competition.\n\nAfroComicCon’s goal will be to provide a welcoming and 
 safe virtual space for underrepresented nerds of color. Regardless of age, 
 gender identity, sexual preference, religious beliefs, or special needs, 
 all are invited to celebrate science-fiction, fantasy, comic books, gaming, 
 and more in this special virtual event.\n\n\nFollow us on social media for 
 updates:\n\nInstagram @AfroComicCon\n\nFacebook Afro Comic Con\n\nTwitter 
 @Afrocomiccon\n https://www.indybay.org/newsitems/2021/10/20/18845850.php
SUMMARY:AfroComicCon 2021 Virtual (Day 2)
LOCATION:Virtual event (FREE)
URL:https://www.indybay.org/newsitems/2021/10/20/18845850.php
DTSTART:20211024T170000Z
DTEND:20211025T000000Z
END:VEVENT
END:VCALENDAR
