BEGIN:VCALENDAR
VERSION:2.0
X-WR-CALNAME:www.indybay.org
PRODID:-//indybay/ical// v1.0//EN
BEGIN:VEVENT
UID:Indybay-18843692
SEQUENCE:19002571
CREATED:20210712T233300Z
DESCRIPTION:KPFA Radio 94.1 FM presents\nJeremy Lent & Joanna Manqueros \n\nThe Web of 
 Meaning: Integrating Science and Traditional Wisdom to Find Our Place in 
 the Universe \n\nRethinking values based on science and traditional wisdom 
 Indigenous, Buddhist, and Taoist traditions have held for millennia that 
 all life is interconnected. Modern science has now validated their insight. 
 What does this mean for how we should live?  This groundbreaking new book 
 weaves together the latest scientific findings and age-old philosophical 
 insights to show how some of our most ingrained beliefs about human nature 
 and the world are mistaken-and offers a powerful alternative to help us 
 heal a planet in peril.\n\nTHE WEB OF MEANING isn't just a challenge to 
 outmoded beliefs. It is an invitation to a new worldview that integrates 
 insights from some of the world's great wisdom traditions with modern 
 science to offer a new way of thinking about ourselves and the world that 
 is both intellectually sound and spiritually vibrant. In this far-reaching 
 and boundary-defying book, Lent, described by Guardian columnist George 
 Monbiot as "one of the greatest thinkers of our age," weaves together the 
 latest research in neuroscience and evolutionary biology with Buddhist, 
 Taoist, and Indigenous wisdom, and shows how these seemingly disparate 
 streams of thought are eminently compatible. He argues that, taken 
 together, they are key to facing the existential problems of the 21st 
 century and can lead to a flourishing future for all. \n \nJeremy Lent 
 wrote The Patterning Instinct: A Cultural History of Humanity's Search for 
 Meaning.\n \nJoanna Manqueros hosts every Tuesday on KPFA at 11 AM,  a 
 celebration of the global music which heals and revives us.\n\nSuggested 
 Donation $5-$20.\n 
 https://www.indybay.org/newsitems/2021/07/12/18843692.php
SUMMARY:Jeremy Lent & Joanna Manqueros: The Web of Meaning
LOCATION:Online webinar\n1929 Martin Luther King Jr Way\nBerkeley, CA 94704
URL:https://www.indybay.org/newsitems/2021/07/12/18843692.php
DTSTART:20210810T200000Z
DTEND:20210810T210000Z
END:VEVENT
END:VCALENDAR
