BEGIN:VCALENDAR
VERSION:2.0
X-WR-CALNAME:www.indybay.org
PRODID:-//indybay/ical// v1.0//EN
BEGIN:VEVENT
UID:Indybay-18843129
SEQUENCE:19001865
CREATED:20210610T001400Z
DESCRIPTION:Join the West Virginia Poor People's Campaign along with Rev. Barber as we 
 host a \nMoral Monday March on Manchin in Charleston, WV on June 14th with 
 a protest livestream.\n\nMonday, June 14, 2021 @ 2 Pm PT\n\nRSVP: 
 https://actionnetwork.org/events/moral-monday-march-on-manchin\n\nWe know 
 that Senator Manchin's position on the filibuster is constitutionally 
 inconsistent, historically inaccurate, morally indefensible, economically 
 insane, and politically unacceptable. \nThis position is hurting Americans 
 of all races, genders, and religions, and especially the 710,000 poor and 
 low-income people in West Virginia (40% of people living in the state). 
 \n\nWe need need a full restoration of the 1965 Voting Rights Act and 
 expanded protections for our democracy, beginning with the right to vote 
 for everybody.  Manchin's call for "bipartisanship" goes against the 
 interests of poor and low-income West Virginians and all Americans, who 
 desperately need living wages of at least $15 / hour, guaranteed health 
 care, housing and an infrastructure plan that meets all of our needs. 
 \n\nTherefore, West Virginians from the hood to the hollers will be 
 protesting at an outdoor rally and march. Those across the country may join 
 in the Poor People's Campaign protest via livestream. \n\nWe are tired of 
 Senator Manchin abandoning his duty! This is why we must march!\n 
 https://www.indybay.org/newsitems/2021/06/09/18843129.php
SUMMARY:March on Manchin: Protest Against Senator & Demanding End of Filibuster Now w/ PPC!
LOCATION:Online protest livestream w/ ASL & Spanish translation
URL:https://www.indybay.org/newsitems/2021/06/09/18843129.php
DTSTART:20210614T210000Z
DTEND:20210614T220000Z
END:VEVENT
END:VCALENDAR
