BEGIN:VCALENDAR
VERSION:2.0
X-WR-CALNAME:www.indybay.org
PRODID:-//indybay/ical// v1.0//EN
BEGIN:VEVENT
UID:Indybay-18842890
SEQUENCE:19001516
CREATED:20210601T185500Z
DESCRIPTION:Join us on Sunday, June 13th at 12pm to hang out with friends and fellow 
 activist,s make new friends, and enjoy BBQ and veggie dogs! We will have an 
 entire bakesale table and small raffle with prizes from our friends who 
 donated things they made.\nCommunity members put together this event to 
 raise awareness about and fundraise for two wonderful animal rescue 
 organizations; Black Sheep Retreat in Mexico and Ahimsa Sanctuary in 
 Morocco. Our goal is to raise $500 for these sanctuaries!\nWe suggest a 
 donations of $10 - $20 for all-you-can-eat veggie dogs and pastries at the 
 bakesale (baked by La Espiga de Oro) will be offered based on donation as 
 well. All donations will be sent directly to the sanctuaries after the 
 event.\nLearn more about 
 Ahimsa:\nhttps://www.facebook.com/G-Ahimsa-Sanctuary-105949811317185\nLearn 
 more about Goyo: https://www.facebook.com/BlackSheepRetreatSanctuary\nIf 
 you are unable to attend and want to donate anyways please venmo Michele 
 Brown at @Michele-Brown-162\nIf you have any questions please text or 
 call:\nKitty (415) 542-6018\nor\nMichele (916) 822-1042\nor\nLavy (510) 
 361-9552\n---------\nDirect Action Everywhere (DxE) is a grassroots network 
 of animal rights activists. Through open rescue, demonstration, and 
 disruption, we are creating a world where every animal is safe, happy, and 
 free. DxE cultivates a welcoming and supportive community. We ask that all 
 those who attend our events (online and offline) respect our Code of 
 Conduct which can be reviewed at dxe.io/conduct.\n 
 https://www.indybay.org/newsitems/2021/06/01/18842890.php
SUMMARY:Vegan BBQ & Bakesale Animal Rescue Fundraiser
LOCATION:Wildcat Canyon @ Alvarado Park
URL:https://www.indybay.org/newsitems/2021/06/01/18842890.php
DTSTART:20210613T190000Z
DTEND:20210613T220000Z
END:VEVENT
END:VCALENDAR
