BEGIN:VCALENDAR
VERSION:2.0
X-WR-CALNAME:www.indybay.org
PRODID:-//indybay/ical// v1.0//EN
BEGIN:VEVENT
UID:Indybay-18841724
SEQUENCE:18999738
CREATED:20210418T233300Z
DESCRIPTION:Environmental Justice for Bayview Hunters Point & Treasure Island 
 Residents!\n\nMeet at San Francisco City Hall/Polk Street Steps to Demand 
 that Mayor Breed & Board of Supervisors:\n-Declare MORATORIUM on Lennar's 
 Shipyard development and unsafe soil excavation\n-Declare PUBLIC HEALTH 
 EMERGENCY!\n-Conduct full retesting, safe cleanup and removal of all 
 radioactive and toxic waste at the Shipyard Superfund Site & Treasure 
 Island\n\n*Please Social Distance and Wear a Mask*\n\nSponsors: Hunters 
 Point Community Lawsuit Plaintiffs, Treasure Island Community Lawsuit 
 Plaintiffs, Bayview Hunters Point Mothers and Fathers Committee, 
 Greenaction for Health and Environmental Justice, Marie Harrison Community 
 Foundation, Hunters Point Community Biomonitoring Program, SF Bay View, 
 ANSWER Coalition/SF Bay Area, Our City, Breathe, Occupy San Francisco 
 Environmental Justice Working Group, Extinction Rebellion/SFBay, California 
 Environmental Justice Coalition, 350 San Francisco, Communities for a 
 Better Environment – Richmond, Sunflower Alliance, Literacy for 
 Environmental Justice, PODER, SF 1000 Grandmothers for Future Generations, 
 Climate Reality Project Bay Area Chapter\n\nFor more info contact:\nEmail- 
 hunterspointlawsuit@gmail.com and greenaction@greenaction.org\n\nPhone- 
 (833) 926-6637 and (415) 447-3904 x 102\n 
 https://www.indybay.org/newsitems/2021/04/18/18841724.php
SUMMARY:People's Earth Day Rally @ SF City Hall
LOCATION:Meet at San Francisco City Hall/Polk Street Steps
URL:https://www.indybay.org/newsitems/2021/04/18/18841724.php
DTSTART:20210422T190000Z
DTEND:20210422T210000Z
END:VEVENT
END:VCALENDAR
