BEGIN:VCALENDAR
VERSION:2.0
X-WR-CALNAME:www.indybay.org
PRODID:-//indybay/ical// v1.0//EN
BEGIN:VEVENT
UID:Indybay-18841710
SEQUENCE:18999719
CREATED:20210417T155700Z
DESCRIPTION:All educators, parents and students in Oakland are invited to join and help 
 build the Northern California Educators Rank-and-File Safety Committee and 
 attend our meeting to prepare the broadest possible struggle to keep 
 schools closed and save lives in Oakland, throughout Northern California 
 and 
 beyond.\n\nMore:\n\nhttps://www.indybay.org/newsitems/2021/04/17/18841709.php\n\nhttps://www.wsws.org/en/special/pages/educators-rank-and-file-committee.html\n\n\n 
 https://www.indybay.org/newsitems/2021/04/17/18841710.php
SUMMARY:California Educators Rank-and-File Safety Committees Meeting
LOCATION:Online event.
URL:https://www.indybay.org/newsitems/2021/04/17/18841710.php
DTSTART:20210417T210000Z
DTEND:20210417T230000Z
END:VEVENT
END:VCALENDAR
