BEGIN:VCALENDAR
VERSION:2.0
X-WR-CALNAME:www.indybay.org
PRODID:-//indybay/ical// v1.0//EN
BEGIN:VEVENT
UID:Indybay-18841390
SEQUENCE:18999316
CREATED:20210405T171800Z
DESCRIPTION:Bay Area activists are facing felony charges and years in prison for 
 documenting animal cruelty inside Sonoma County factory farms. 4 of the 
 activists have preliminary court hearings happening in April, and they need 
 our support.\n\nOn April 17th we are going back to the farms DxE has been 
 investigating for years with a car caravan of activists. Come see for 
 yourself what these places look like. It's important to see the factory 
 farms in our own backyard, to speak up for the animals inside, and to show 
 the courts that the public supports these whistleblowers.\n\nLet's bear 
 witness and protest for a world where factory farms no longer exist, where 
 rescuing animals is not a crime, and where animals are treated with 
 respect. #RightToRescue #NoMoreFactoryFarms\n\n---\n\nWHERE: 1098 Samuel 
 Dr, Petaluma, CA 94952\nWHEN: Saturday, April 17th 2:30pm\nWEAR: Wear your 
 yellow No More Factory Farms t-shirt if you have it\nACCESSIBILITY: This 
 event will include standing. If you have questions or need support to 
 attend this event, email directaction@directactioneverywhere.com.\nWHO: 
 Everyone is welcome! However, please do not come if you have or recently 
 had symptoms of or exposure to COVID-19. We require masks and physical 
 distancing, and we encourage folks in high risk groups to support from home 
 by engaging with the livestream and sharing the petition far and wide. If 
 you're nervous about protesting, you can come observe or hold a sign 
 quietly.\n\n---\n\nDirect Action Everywhere (DxE) is a grassroots network 
 of animal rights activists. Through open rescue, demonstration, and 
 disruption, we are creating a world where every animal is safe, happy and 
 free.\n\nDxE cultivates a welcoming and supportive community. We ask that 
 all those who attend our events (online and offline) respect our Code of 
 Conduct which can be reviewed at dxe.io/conduct.\n\nTo learn about our 
 vision, goals, strategy and more check out the San Francisco Bay Area 
 chapter Activist Handbook here: dxe.io/handbook\n\nIf you have any 
 questions or concerns, please e-mail 
 sfbay-protest@directactioneverywhere.com\n 
 https://www.indybay.org/newsitems/2021/04/05/18841390.php
SUMMARY:Sonoma County Factory Farm Vigil + Caravan
LOCATION:WHERE: 1098 Samuel Dr, Petaluma, CA 94952\nWHEN: Saturday, April 17th 
 2:30pm
URL:https://www.indybay.org/newsitems/2021/04/05/18841390.php
DTSTART:20210417T213000Z
DTEND:20210417T233000Z
END:VEVENT
END:VCALENDAR
