BEGIN:VCALENDAR
VERSION:2.0
X-WR-CALNAME:www.indybay.org
PRODID:-//indybay/ical// v1.0//EN
BEGIN:VEVENT
UID:Indybay-18840760
SEQUENCE:18998342
CREATED:20210312T213400Z
DESCRIPTION:Join us for a beautiful morning hike at Lake Chabot in San Leandro! We will 
 be meeting at 9am in the parklot and then walking together along the 
 beautiful trails. Feel free to bring your dog if they are 
 dog-friendly!\nPlease bring a facemask and respect social distancing during 
 the hike. If you have COVID symptoms of have been in contact with someone 
 who has tested positive for COVID please stay safe and stay at 
 home.\nWhere: 17936 Lake Chabot Rd, Castro Valley, California 94546\nWhen: 
 Sunday, March 21st, 9am\nPlease contact Susana Soto if you have any 
 questions!\n https://www.indybay.org/newsitems/2021/03/12/18840760.php
SUMMARY:Hike at Lake Chabot
LOCATION:Where: 17936 Lake Chabot Rd, Castro Valley, California 94546\nWhen: Sunday, 
 March 21st, 9am
URL:https://www.indybay.org/newsitems/2021/03/12/18840760.php
DTSTART:20210321T160000Z
DTEND:20210321T180000Z
END:VEVENT
END:VCALENDAR
