BEGIN:VCALENDAR
VERSION:2.0
X-WR-CALNAME:www.indybay.org
PRODID:-//indybay/ical// v1.0//EN
BEGIN:VEVENT
UID:Indybay-18840675
SEQUENCE:18998642
CREATED:20210310T233400Z
DESCRIPTION:New film screening.\n\n"Racially Charged: America's Misdemeanor 
 Problem."\n\nThis just-released film from Robert Greenwald's "Brave New 
 Films" documents the issues surrounding 13 million (mainly black, brown, 
 and poor) Americans who are being incarcerated every day for petty "crimes" 
 like Jaywalking, loitering, vagrancy, walking the railroad, insulting 
 language or gestures, petty theft, disturbing the peace, etc. etc. The 
 practice is then monetized during the detainees' time in jail (averaging 30 
 days before seeing a judge) feeding the $80 billion a year prison system. 
 And the imprisoned wind up with a criminal record and may lose their jobs, 
 their marriages etc. Some prisoners spend years locked up before their 
 trial date, and what may have looked like a petty "misdemeanor" ends up 
 costing them their education, their housing, their credit and their ability 
 to earn a living. This documentary features Mahershala Ali – 2-time 
 Academy Award winner for Moonlight and Green Book.\n\nAudra Walton will 
 host this Zoom event including discussion after the 35 minute film. 
 https://us02web.zoom.us/j/89659499784 Meeting ID: 896 5949 9784\n\nFind 
 your local number: https://us02web.zoom.us/u/kdHtZtjQaN\nSponsored by the 
 Green Party of Monterey County. Free & Open.\n 
 https://www.indybay.org/newsitems/2021/03/10/18840675.php
SUMMARY:Racially Charged: America's Misdemeanor Problem
LOCATION:Free Online Event
URL:https://www.indybay.org/newsitems/2021/03/10/18840675.php
DTSTART:20210327T013000Z
DTEND:20210327T023000Z
END:VEVENT
END:VCALENDAR
