BEGIN:VCALENDAR
VERSION:2.0
X-WR-CALNAME:www.indybay.org
PRODID:-//indybay/ical// v1.0//EN
BEGIN:VEVENT
UID:Indybay-18840581
SEQUENCE:18998176
CREATED:20210308T192300Z
DESCRIPTION:United Nations International Women’s Day 2021\n\nJoin UN Women and 
 Generation Equality on International Women’s Day to celebrate women in 
 leadership who are shaping an equal future and recovery from the COVID-19 
 pandemic.\n\nYouTube broadcast recording here: 
 https://www.youtube.com/watch?v=hyOOQ_6L-2I&t=20s\n 
 https://www.indybay.org/newsitems/2021/03/08/18840581.php
SUMMARY:United Nations Celebration of International Women's Day 2021 (recorded broadcast)
LOCATION:Online livestream via YouTube
URL:https://www.indybay.org/newsitems/2021/03/08/18840581.php
DTSTART:20210308T193000Z
DTEND:20210308T210000Z
END:VEVENT
END:VCALENDAR
