BEGIN:VCALENDAR
VERSION:2.0
X-WR-CALNAME:www.indybay.org
PRODID:-//indybay/ical// v1.0//EN
BEGIN:VEVENT
UID:Indybay-18840547
SEQUENCE:18998078
CREATED:20210306T205000Z
DESCRIPTION:THERE IS NO PLACE FOR HATE IN SANTA CRUZ\n\nRally against the City's new 
 Temporary Outdoor Living Ordinance\n\nThe city council is meeting this 
 Tuesday the 9th to pass their new cruel anti-houseless ordinance. Join us 
 and fellow comrades in a rally at 4:30pm at City Hall to unite to fight 
 it!\n\nTuesday, March 9, 2021\n@4:30 pm\nSanta Cruz City Hall\n809 Center 
 Street, Santa Cruz\n\nTEXT OF THE ORDINANCE\n\nAN ORDINANCE OF THE CITY 
 COUNCIL OF THE CITY OF SANTA CRUZ AMENDING CHAPTER 6.36, CURRENTLY ENTITLED 
 “CAMPING” AND HEREAFTER ENTITLED “REGULATIONS FOR TEMPORARY OUTDOOR 
 LIVING” OF THE SANTA CRUZ MUNICIPAL 
 CODE:\nhttps://www.cityofsantacruz.com/Home/ShowDocument?id=83225\n\nCity 
 council meeting 
 agenda\nhttps://ecm.cityofsantacruz.com/OnBaseAgendaOnline/Meetings/ViewMeeting?id=1640&doctype=1\n 
 https://www.indybay.org/newsitems/2021/03/06/18840547.php
SUMMARY:Rally against the Temporary Outdoor Living Ordinance
LOCATION:Santa Cruz City Hall\n809 Center Street, Santa Cruz
URL:https://www.indybay.org/newsitems/2021/03/06/18840547.php
DTSTART:20210310T003000Z
DTEND:20210310T003000Z
END:VEVENT
END:VCALENDAR
