BEGIN:VCALENDAR
VERSION:2.0
X-WR-CALNAME:www.indybay.org
PRODID:-//indybay/ical// v1.0//EN
BEGIN:VEVENT
UID:Indybay-18840494
SEQUENCE:18998009
CREATED:20210304T175500Z
DESCRIPTION:Gender Equality As the Law of the Land: The Work to Pass the Equal Rights 
 Amendment\n\nMar 11, 2021 2 PM PT (5 PM PT) \n\nRegister here: 
 https://us02web.zoom.us/webinar/register/WN_Qfj4kIoYSkGJ4igy07Pjlw\n\n\nIn 
 2021, gender equality is still not the law of the land.  Nearly 100 years 
 since Alice Paul introduced the Equal Rights Amendment (1923), the 
 Constitution does not entirely prohibit discrimination based on sex. 
 \n\nWhile we celebrate the many achievements, we’ve made since we know 
 our work is not yet done. Women were deliberately left out of the U.S. 
 Constitution and women of color have been left out of the discourse for 
 equality for centuries. \n\nFor progress to continue, we must enshrine 
 gender equality in our founding document. In January 2020, Virginia voted 
 to become the 38th and final state needed to ratify the Equal Rights 
 Amendment (ERA). In January 2021, resolutions to remove the deadline of 
 ratification of the ERA were introduced in the House and Senate.   \n\nJoin 
 us for a teach-in on the continuing and necessary work to pass the ERA.\n 
 https://www.indybay.org/newsitems/2021/03/04/18840494.php
SUMMARY:Gender Equality as the Law of the Land: The Work to Pass the Equal Rights Amendment
LOCATION:Online event via Zoom
URL:https://www.indybay.org/newsitems/2021/03/04/18840494.php
DTSTART:20210311T220000Z
DTEND:20210311T230000Z
END:VEVENT
END:VCALENDAR
