BEGIN:VCALENDAR
VERSION:2.0
X-WR-CALNAME:www.indybay.org
PRODID:-//indybay/ical// v1.0//EN
BEGIN:VEVENT
UID:Indybay-18840414
SEQUENCE:18997890
CREATED:20210302T034700Z
DESCRIPTION:COVID wouldn't stop Ovid! Or any other poets worth their salt, so please 
 join us for an exciting online reading from The Page Poets Series and The 
 Divers Collection this Saturday, March 6 from 5pm - 6:15.\n\nFeatured poets 
 are Katharine Harer, Charlie Pendergast, Stan Stone, Garrett Caples, Mary 
 Julia Klimenko, Tamsin Smith and Jason Morris.\n\nHere's how the press 
 describes their work:\n\nThe Page Poets Series was conceived by friends on 
 a bright day in a dark corner of The Page bar on Divisadero Street in San 
 Francisco. We publish important Northern California poets whose work 
 excites us.\n\nThe Divers Collection expands our horizons. It is dedicated 
 to the discovery and exploration of eclectic creative treasures, which we 
 wish to share.\n\nTo sign up for this Saturday's reading click on this 
 link: https://meet.google.com/vne-woki-ytq\n\nFor more info on their 
 publications check their website: fmsbwpress.com\n\nYou will be able to 
 order copies of some books from the evening's poets from The Green Arcade 
 by contacting us at: TheGreenArcade.com\n\n\n 
 https://www.indybay.org/newsitems/2021/03/01/18840414.php
SUMMARY:Page Poets Reading Online at The Green Arcade
LOCATION:The Green Arcade\n1680 Market Street\nSan Francisco, CA 94102
URL:https://www.indybay.org/newsitems/2021/03/01/18840414.php
DTSTART:20210307T010000Z
DTEND:20210307T023000Z
END:VEVENT
END:VCALENDAR
