BEGIN:VCALENDAR
VERSION:2.0
X-WR-CALNAME:www.indybay.org
PRODID:-//indybay/ical// v1.0//EN
BEGIN:VEVENT
UID:Indybay-18840328
SEQUENCE:18997787
CREATED:20210226T204300Z
DESCRIPTION:Protect Immigrants & Stop Deportations Now! Digital Rally\n\nTime: 
 Wednesday, March 3 @ 5 - 6 PM (8 – 9 PM ET)\n\nRSVP: 
 https://www.mobilize.us/thefrontline/event/367916/\n\nLivestream: 
 https://www.facebook.com/UnitedWeDream/\n\nLast November, voters rejected 
 the previous administration’s horrifying and racist scapegoating of 
 immigrants. But more than 26,000 people have been deported since Biden’s 
 inauguration. This week, the Biden administration opened its first migrant 
 detention center for children. And with hate crimes against Asian Americans 
 on the rise, we must act.\n\nJoin our next mass call, “On the Frontline: 
 Protect Immigrants & Stop Deportations Now” as we discuss the need for 
 immediate AND long-term solutions to protect all immigrant communities. We 
 need real, transformative change that acknowledges the dignity and humanity 
 of all people.\n\nThe Frontline, Movement for Black Lives, the Working 
 Families Party, and United We Dream invite you to “On the Frontline” 
 Mass Call and Training Series. This series will include virtual town halls 
 and skill-based trainings, where you will hear updates and analysis from 
 movement leaders, engage in political education, and learn concrete skills 
 to take meaningful action.\n\nNotes from the organizer: ASL, Spanish, 
 Closed Captioning available. \n\nNotas del organizador: Interpretación de 
 signos, Español y subtitulos.\n 
 https://www.indybay.org/newsitems/2021/02/26/18840328.php
SUMMARY:Protect Immigrants & Stop Deportations Now! Digital Rally
LOCATION:Online event
URL:https://www.indybay.org/newsitems/2021/02/26/18840328.php
DTSTART:20210326T190000Z
DTEND:20210326T190000Z
END:VEVENT
END:VCALENDAR
