BEGIN:VCALENDAR
VERSION:2.0
X-WR-CALNAME:www.indybay.org
PRODID:-//indybay/ical// v1.0//EN
BEGIN:VEVENT
UID:Indybay-18839506
SEQUENCE:18996611
CREATED:20210122T233600Z
DESCRIPTION:Police stand by while white supremacist mobs run amok. Black Lives Matter 
 and other protests by the left are attacked with impunity. Police use 
 deadly force against ordinary citizens, disproportionately people of color. 
 All of this is current, but none of it is new, as our speakers will 
 explain. \n\nCome hear the following speakers, followed by floor 
 discussion:\nSigne Waller Foxworth, social justice activist, an organizer 
 of a 1979 anti-Klan rally that turned into the Greensboro Massacre \nGerald 
 Smith, Oscar Grant Committee against Police Brutality and State 
 Repression\nMelissa Nold, civil rights attorney, Vallejo CA.\n\n\nThis 
 event is sponsored by the Oakland Greens, Bay Area System Change Not 
 Climate Change, and the Alameda County Peace and Freedom Party.\n 
 https://www.indybay.org/newsitems/2021/01/22/18839506.php
SUMMARY:Racism and Policing in the U.S.A.
LOCATION:This event will be held online
URL:https://www.indybay.org/newsitems/2021/01/22/18839506.php
DTSTART:20210206T223000Z
DTEND:20210207T003000Z
END:VEVENT
END:VCALENDAR
