BEGIN:VCALENDAR
VERSION:2.0
X-WR-CALNAME:www.indybay.org
PRODID:-//indybay/ical// v1.0//EN
BEGIN:VEVENT
UID:Indybay-18839027
SEQUENCE:18995940
CREATED:20201221T105700Z
DESCRIPTION:Everyone is invited to join the Santa Cruz Homeless Union, India Joze, Food 
 Not Bombs and Friends of Christmas at the annual Holiday meal and Festival 
 featuring live music with Johnny and the Jingle Bells. Lots of free food 
 and fun!\n https://www.indybay.org/newsitems/2020/12/21/18839027.php
SUMMARY:Holiday Meal and Festival
LOCATION:Laurel and Front Streets, Lot 27, Santa Cruz
URL:https://www.indybay.org/newsitems/2020/12/21/18839027.php
DTSTART:20201225T200000Z
DTEND:20201225T230000Z
END:VEVENT
END:VCALENDAR
