BEGIN:VCALENDAR
VERSION:2.0
X-WR-CALNAME:www.indybay.org
PRODID:-//indybay/ical// v1.0//EN
BEGIN:VEVENT
UID:Indybay-18838780
SEQUENCE:18995695
CREATED:20201204T031000Z
DESCRIPTION:End Violence Against Sex Workers: Decriminalization, Justice and 
 Compensation - A Virtual Gathering, December 17, 5:30-7:30pm. \n\nThe event 
 aims to uplift sex workers’ historic and current struggles against 
 violence and poverty and to honor those who have lost their lives along the 
 way. It will build support for the campaign in California that won 
 compensation for violence against sex workers and formerly incarcerated 
 people; uplift the work of the Black Coalition Fighting Back Serial 
 Murders, who are campaigning for justice and to establish a permanent 
 memorial for the scores of Black women serial murder victims in South Los 
 Angeles, and stand in solidarity with those campaigning for justice for the 
 Missing and Murdered Indigenous women, girls and 2 spirits. Slideshow, 
 video clips, speakers, music. On the International Day to End Violence 
 Against Sex Workers. \n\nEvent convened by US PROStitutes Collective. 
 \nRSVP https://bit.ly/usprosd17 \nFor more information: contact 
 uspros@prostitutescollective.net or call 415 626-4114\n 
 https://www.indybay.org/newsitems/2020/12/03/18838780.php
SUMMARY:End Violence Against Sex Workers: Decriminalization, Justice & Compensation
LOCATION:Zoom details sent day of Event RSVP @ bit.ly/usprosd17 get link.
URL:https://www.indybay.org/newsitems/2020/12/03/18838780.php
DTSTART:20201218T013000Z
DTEND:20201218T033000Z
END:VEVENT
END:VCALENDAR
