BEGIN:VCALENDAR
VERSION:2.0
X-WR-CALNAME:www.indybay.org
PRODID:-//indybay/ical// v1.0//EN
BEGIN:VEVENT
UID:Indybay-18838366
SEQUENCE:18995006
CREATED:20201110T024000Z
DESCRIPTION:Some bash a Pilgrim-centric telling of the Thanksgiving story because it 
 marginalizes the role native Americans played in the survival of the 
 unfortunate colonists from England. \n\nOthers passively-aggressively pity 
 the native Americans as the first peoples aggrievedly, but hopelessly 
 resisted the metal and flint armed Euro-refugees.\n\nStill others 
 trumpishly ignore the question of social justice, but simply sow good cheer 
 within their domicile's enclosure as they add paunch to their Judy while 
 lip-smacking bird grease and taters.\n\nEducators, and those in prospective 
 hurly-burly conversation with friends and family this holiday season 
 regarding Pilgrim-cancelling and woke Indian talk, are cordially invited to 
 participate in an interactive seminar exploring the "living document" 
 approach to teaching the Thanksgiving story.\n\nBy "living document" we 
 mean we will approach the Thanksgiving tale as holding practical relevance 
 for public legislation today. And yes, by using "living document" we are 
 provocatively alluding to the faux-Originalist/Amy Barrett faction of 
 historians who hew to the 1950's Pledge-of-Allegiance style Thanksgiving 
 tale of self-reliant Protestants munificently leading the Indians out of 
 their doomed savagery.\n\nUsing a grade-school picture book, we'll decode 
 the profound human habitat animus story of 1620-21that challenges us today 
 to open borders but close the circle. By "open borders" we mean welcome 
 trade, and by "close the circle" we mean embrace excluding no one from the 
 land.\n\nFREE. $5 guarantee.\n 
 https://www.indybay.org/newsitems/2020/11/09/18838366.php
SUMMARY:Who eats crow on Turkey Day: teaching justice on Thanksgiving
LOCATION:Join Zoom 
 Meeting\nhttps://zoom.us/j/95005710989?pwd=b1I2YVVndHR0SDI2V1JmVk9LbUFlUT09\n\n\n
URL:https://www.indybay.org/newsitems/2020/11/09/18838366.php
DTSTART:20201114T170000Z
DTEND:20201114T180000Z
END:VEVENT
END:VCALENDAR
