BEGIN:VCALENDAR
VERSION:2.0
X-WR-CALNAME:www.indybay.org
PRODID:-//indybay/ical// v1.0//EN
BEGIN:VEVENT
UID:Indybay-18837245
SEQUENCE:18993391
CREATED:20201003T194900Z
DESCRIPTION:Disinfo Decoded: Gender and Racial Bias Faced by Women and Candidates of 
 Color\n\nJoin Planned Parenthood Votes to learn about how disinformation 
 and biases impact female candidates and candidates of color ahead of this 
 year's election. We'll talk with experts about how disinformation spreads 
 and what you can do about it.\n\nMonday, October 5, 2020 @ 4 PM - 5:30 PM 
 PT (7 PM -  8:30 PM ET)\n\nRSVP: 
 https://www.weareplannedparenthoodvotes.org/c0mSlQpTekCez6YHd0y_wA2\n\n 
 https://www.indybay.org/newsitems/2020/10/03/18837245.php
SUMMARY:Disinfo Decoded: Gender and Racial Bias Faced by Women and Candidates of Color
LOCATION:Online event
URL:https://www.indybay.org/newsitems/2020/10/03/18837245.php
DTSTART:20201005T230000Z
DTEND:20201006T003000Z
END:VEVENT
END:VCALENDAR
