BEGIN:VCALENDAR
VERSION:2.0
X-WR-CALNAME:www.indybay.org
PRODID:-//indybay/ical// v1.0//EN
BEGIN:VEVENT
UID:Indybay-18836910
SEQUENCE:18992925
CREATED:20200924T163500Z
DESCRIPTION:LOCATION: El Estero Park Complex, 777 Pearl St, Monterey, CA \n\nDATE/TIME: 
 Sunday 09.27 at 12pm\n\nDETAILS: Bring masks. Take a stand. Speak 
 out.\n\nINSTAGRAM LINK: https://www.instagram.com/p/CFT5NnvB9JW/\n 
 https://www.indybay.org/newsitems/2020/09/24/18836910.php
SUMMARY:Protest to Abolish ICE, End Forced Sterilization, & Free The Families (Monterey)
LOCATION:El Estero Park Complex, 777 Pearl St, Monterey, CA 93940 
URL:https://www.indybay.org/newsitems/2020/09/24/18836910.php
DTSTART:20200927T190000Z
DTEND:20200927T200000Z
END:VEVENT
END:VCALENDAR
