BEGIN:VCALENDAR
VERSION:2.0
X-WR-CALNAME:www.indybay.org
PRODID:-//indybay/ical// v1.0//EN
BEGIN:VEVENT
UID:Indybay-18836659
SEQUENCE:18992581
CREATED:20200915T205900Z
DESCRIPTION:Global March for Universal Basic Income 2020: Car Caravan in 
 Oakland\n\nWhere: Eastshore Park, MacArthur Blvd & Grand Ave Oakland, CA 
 94610\n\nWhen: Saturday, September 19th @ 1 PM - 4 PM PT \n\nOakland 
 info/RSVP: 
 https://www.eventbrite.com/e/basic-income-march-car-parade-art-installation-oakland-ca-tickets-120616947537?aff=ebdssbdestsearch\n\nBasic 
 Income Movement website: https://www.basicincomemarch.com/\n\nJoin us in 
 Oakland as people in cities around the world come together in the largest 
 ever \nglobal March for Universal Basic Income on September 19, 2020. 
 Events are also planned in New York, Atlanta, Washington DC, Los Angeles, 
 and worldwide, and will use mixed methods of protesting to have a high 
 impact. \n\nThe economy is broken. Currently, many of the people who work 
 hardest and are the backbones of our economy are those who are most 
 vulnerable to financial hardship and insecurity. The COVID-19 economic 
 crisis has made this abundantly clear. It is time to shift \nour thinking 
 and recognize that we can design a system that works for 
 everyone.\n‍\nJoin us as we take to the streets to demand our leadership 
 adopt and pass a Universal Basic Income as a means to a healthier, more 
 innovative, and just society. We must create an income floor on top of 
 which each member of our society can grow and thrive, and in turn ensure 
 our local and national economies can thrive. We owe 
 us!\n______________________________________________________________\n\n#Vote2020 
 #BeAVoter\n\nVOTE: Register or Pre-Register (16-17 yrs) here: 
 https://registertovote.ca.gov/\n\n▪▪▪▪▪▪▪▪▪▪▪▪\n\n#2020Census 
 #BeCounted\n\nCENSUS: Have your household complete the census here: 
 https://my2020census.gov/\n_____________________________________________________________\n\nSAFETY: 
 Protocol for Risk/Harm Reduction While Protesting during 
 COVID-19\n\nhttps://docs.google.com/document/d/14aCsBMjlpFb7JwcF4kYo0oyFc3aXpN6jf0piDl6RtVA/edit\n\nTo 
 control the spread of the novel coronavirus while in person protesting, 
 PLEASE:\n\n--Wear cloth face coverings/masks; they protect other people if 
 the wearer is infected, even if they’re not showing symptoms.\n--Practice 
 physical distancing, staying more than six feet away from people who are 
 not a part of your household, if possible.\n--Use hand sanitizer 
 often.\n--Avoid touching your eyes, nose, and mouth with unwashed 
 hands.\n--Avoid touching surfaces.\n--Minimize contact by multiple people 
 with commonly used surfaces like water bottles, bullhorns, handrails, and 
 barricades\n--Minimize yelling and singing. Make noise with drums, 
 tambourines.\n--If you use a megaphone, it should be thoroughly sanitized 
 between different speakers\n\nIf you have the following symptoms, please DO 
 NOT participate in person. Even if you test negative for COVID-19 but have 
 these symptoms, please refrain from in-person 
 actions:\n--Fever\n--Shortness of breath\n--Cough\n--Headache\n--Loss of 
 smell or taste\n\nCDC: Older adults and people who have severe underlying 
 medical conditions like heart or lung disease or diabetes seem to be at 
 higher risk for developing serious complications from COVID-19 
 illness.\n\nCDC COVID-19 link: 
 https://www.cdc.gov/coronavirus/2019-nCoV/index.html\n______________________________________________________________ 
 \n\n https://www.indybay.org/newsitems/2020/09/15/18836659.php
SUMMARY:Oakland: Car Caravan for Universal Basic Income Global March 2020
LOCATION:Eastshore Park, MacArthur Blvd & Grand Ave Oakland, CA 94610
URL:https://www.indybay.org/newsitems/2020/09/15/18836659.php
DTSTART:20200919T200000Z
DTEND:20200919T230000Z
END:VEVENT
END:VCALENDAR
