BEGIN:VCALENDAR
VERSION:2.0
X-WR-CALNAME:www.indybay.org
PRODID:-//indybay/ical// v1.0//EN
BEGIN:VEVENT
UID:Indybay-18833009
SEQUENCE:18986664
CREATED:20200513T202200Z
DESCRIPTION:Dispatch from the Frontlines: Gender Inequality and COVID-19 \n\nJoin us 
 for a digital town hall with special guests Rep. Rashida Tlaib and \nthe We 
 Demand More Coalition. \n\nWhen: Wed. May 13, 2020 @ 3:30 PM PT (6:30 PM 
 ET)\n\nWhere: Zoom or online livesream: 
 https://www.facebook.com/WeBuildProgress/\n\nWomen and families are being 
 disproportionately impacted by the coronavirus pandemic. Women are risking 
 their lives on the frontline to keep us safe and yet they are more likely 
 to lose their jobs, more likely to be the caretakers at home, and in some 
 cases, their rights are under direct attack.\n\nFor Wednesday's Town Hall 
 we will have a Q&A with special guests Congresswoman Rashida Tlaib and 
 members of the We Demand More Coalition including Planned Parenthood, 
 MomsRising.org, Mamás Con Poder, and UltraViolet to discuss how Congress 
 must respond to gender inequalities in the time of COVID-19, how Rep. 
 Tlaib’s Automatic Boost Act could help, and more!\n\nRSVP to join via 
 Zoom here: 
 https://us02web.zoom.us/webinar/register/6915877475302/WN_2TrcWRAiSwOvJ_GtjS0sCQ\n 
 https://www.indybay.org/newsitems/2020/05/13/18833009.php
SUMMARY:Dispatch from the Frontlines: Gender Inequality and COVID-19 (CPCC)
LOCATION:Online livestream & Zoom
URL:https://www.indybay.org/newsitems/2020/05/13/18833009.php
DTSTART:20200513T223000Z
DTEND:20200513T233000Z
END:VEVENT
END:VCALENDAR
