BEGIN:VCALENDAR
VERSION:2.0
X-WR-CALNAME:www.indybay.org
PRODID:-//indybay/ical// v1.0//EN
BEGIN:VEVENT
UID:Indybay-18832666
SEQUENCE:18986096
CREATED:20200428T030400Z
DESCRIPTION:MAY DAY: Digital Day of Action\n\nWhen: Press Conference on May Day, 
 Friday, May 1, 2020 @ 10 AM \n\nWhere: Online via livestream\n\nWMLA 
 Facebook: https://www.facebook.com/wmnsmarchla/\n\nCoalition for Human 
 Rights LA: 
 https://www.facebook.com/chirlausa/\n___________________________________________________________\n\nOn 
 May Day's 20th Anniversary, we are ALL essential workers, and we applaud 
 the immigrants and workers that keep this country going during this 
 COVID-19 emergency.\n\nWe will especially recognize those staying at their 
 posts while the rest of the country shelters in place: doctors, nurses, 
 home health aides, teachers, grocery stockers, delivery drivers, warehouse 
 workers, field laborers. As we practice social distancing, we cheer and 
 applaud the ones who risk their lives to help this country 
 recover.\n\nPress Conference:\n\nAt 10 a.m., we will proclaim our support 
 for workers at a virtual live streamed press conference with May Day 
 Coalition leaders and workers. \n\n#ClapForWorkers / 
 #PorraDeTrabajadores:\n\nThen at 6 p.m., we want everyone in LA to lean out 
 their windows, come to their balconies, and step out their doors to applaud 
 all workers for 2 minutes and 20 seconds. \n\nWe are recruiting 
 influencers, celebrities, and elected officials to join us, and we 
 encourage everyone to post tagged videos of their #MayDay2020 
 #ClapForWorkers.  Let's make sure they hear us everywhere in the city. It's 
 going to be beautiful! \n\nSpanish hashtags: #DiaDelTrabajador y 
 #PorraDeTrabajadores. 
 \n___________________________________________________________\n\nPARTNERS:\n\nWomen's 
 March LA Foundation\nCoalition for Humane Immigrant 
 Rights\nInsightLA\nEquality California\nCAIR - Greater Los Angeles\nUCLA 
 Labor Center\nCentral American Resource Center (CARECEN-LA)\nParty for 
 Socialism and Liberation - Los Angeles\nMorena Los Ángeles Ca. Comite 
 Fuerza y Unidad\nNational Lawyers Guild, Los Angeles (NLG-LA)\nACT LA: 
 Alliance for Community Transit Los Angeles\nPromesa Boyle Heights\n 
 https://www.indybay.org/newsitems/2020/04/27/18832666.php
SUMMARY:May Day: Digital Day of Action Honoring Essential Workers (Women's March & others)
LOCATION:Online via livestream
URL:https://www.indybay.org/newsitems/2020/04/27/18832666.php
DTSTART:20200501T170000Z
DTEND:20200501T170000Z
END:VEVENT
END:VCALENDAR
