BEGIN:VCALENDAR
VERSION:2.0
X-WR-CALNAME:www.indybay.org
PRODID:-//indybay/ical// v1.0//EN
BEGIN:VEVENT
UID:Indybay-18832442
SEQUENCE:18985696
CREATED:20200417T174500Z
DESCRIPTION:Youth Spirit Artwork has a monthly Poetry Open Mic where we invite our 
 youth and others in our community to participate in reading Poetry. Due to 
 COVID-19 and CDC regulations, we have decided to move ASÉ: Poetry Open Mic 
 online!  We are excited to try our first Zoom Open Mic! Please join us from 
 the comfort of your home. All are welcome to join and all are welcome to 
 participate in the reading.\nWe have new features every month! This month, 
 our featured poets are Nanette Deetz & J.J. Rush  \nASÉ will be on \nApril 
 25, 2020, 6:00 PM Pacific Time (US and Canada)  \nPlease fill out this 
 google form to REGISTER FOR ASÉ using the zoom link provided in the 
 form.\n\nhttps://forms.gle/nUzYPWi1QMQBkFCJ8 \n \nYouth Spirit Artworks 
 thanks you for your continued support.\n\n 
 https://www.indybay.org/newsitems/2020/04/17/18832442.php
SUMMARY:ASE: Poetry Open Mic
LOCATION:Online on Zoom!
URL:https://www.indybay.org/newsitems/2020/04/17/18832442.php
DTSTART:20200426T010000Z
DTEND:20200426T023000Z
END:VEVENT
END:VCALENDAR
