BEGIN:VCALENDAR
VERSION:2.0
X-WR-CALNAME:www.indybay.org
PRODID:-//indybay/ical// v1.0//EN
BEGIN:VEVENT
UID:Indybay-18832100
SEQUENCE:18985128
CREATED:20200404T003500Z
DESCRIPTION:April 4 is a profound historical day in America.  The Confederate Army 
 retreated from the Capitol of Richmond in 1865 effectively marking the 
 beginning of the end of chattel slavery throughout America.  In Memphis, 
 Tennessee April 4, 1968 the assignation of Rev. Dr. Martin Luther King, Jr. 
 effectively began the end of the US Civil Rights Movement.  \n\nOn April 4, 
 1968, the Sacramento City Council voted to name the MLK Memorial Library to 
 honor his legacy and closed the evening sessions in his honor.\n\nGlobally, 
 the civil cights icon Dr. Martin Luther Jr. will be remembered for his 
 prophetic "I have been to the Mountiantop Message."\n\nThe next evening, 
 according to the history books, King went out on the balcony and was 
 standing near his room where a bullet struck him at 6:01 p.m. that evening 
 in the face and severed his spinal cord.\n\nDr. King fell backward onto the 
 balcony and was unconscious and was rushed to St. Joseph’s Hospital,  
 where doctors opened his chest, performed cardiopulmonary resuscitation, 
 yet \nDr. King never regained consciousness and was pronounced died at 7:05 
 p.m.\n\nToday, most singularly remember Dr. King as a dreamer, the 
 scholastic record few consider, the nightmares ended with a singular 
 assigns bullet in the ole Slavery Port City of Memphis, along the historic 
 strategic Mississippi River.\n\nThe Golden Anniversary of the MLK Memorial 
 Library will serve as a beacon preparing the underserved Meadowview Library 
 Service District for a Renaissance.\n\nInternational, National, State and 
 Regional resources are poised to assist the long overdue remodel of the 
 library utilizing "best practices" of an essential community 
 resource.\n\nIf we recall April 4, throughout American History, then a 
 higher priority will be given towards supporting the community efforts to 
 honor the profound contributions by Rev. Dr. Martin Luther King, Jr., while 
 greatly enhancing the libraries offerings in seamless partnership with the 
 Sacramento Regional Public Library Authority. \n\n\n 
 https://www.indybay.org/newsitems/2020/04/03/18832100.php
SUMMARY:Toward A Complete Dr. Martin Luther King Legacy
LOCATION:MLK Library Sacramento \n24th Street Bypass\nSacramento, CA. 95822
URL:https://www.indybay.org/newsitems/2020/04/03/18832100.php
DTSTART:20200404T180000Z
DTEND:20200404T190000Z
END:VEVENT
END:VCALENDAR
