BEGIN:VCALENDAR
VERSION:2.0
X-WR-CALNAME:www.indybay.org
PRODID:-//indybay/ical// v1.0//EN
BEGIN:VEVENT
UID:Indybay-18831312
SEQUENCE:18983416
CREATED:20200305T220200Z
DESCRIPTION:UC Berkeley’s Department of Theater, Dance, and Performance Studies 
 presents:\n\nTHE ARSONISTS\nBy Max Frisch\nTranslated by Alistair 
 Beaton\nDirected by Patrick Russell\n\nMarch 12–15, 2020\nDurham Studio 
 Theater, Dwinelle Hall, UC Berkeley\n\nIn a nameless town. At an unknown 
 time. A community is on edge as arsonists wreak havoc in the night, going 
 door to door, setting homes ablaze. When the self-assured businessman 
 Biedermann finds himself with the arsonists on his doorstep, will he be 
 prepared for their cunning and coercive tactics?\n\nAs timeless as it is 
 timely, Max Frisch’s cautionary comic parable on greed, apathy, and the 
 power of persuasion has the urgency of a ticking time 
 bomb.\n\nPerformances:\nThursday, March 12, 2020 — 8 p.m.\nFriday, March 
 13, 2020 — 8 p.m.\nSaturday, March 14, 2020 — 2 p.m.\nSaturday, March 
 14, 2020 — 8 p.m.\nSunday, March 15, 2020 — 2 p.m.\n\nTickets: 
 $10–15\ntdps.events/tickets\n 
 https://www.indybay.org/newsitems/2020/03/05/18831312.php
SUMMARY:TDPS presents The Arsonists
LOCATION:Durham Studio Theater, Dwinelle Hall, UC Berkeley
URL:https://www.indybay.org/newsitems/2020/03/05/18831312.php
DTSTART:20200315T210000Z
DTEND:20200315T230000Z
END:VEVENT
END:VCALENDAR
