BEGIN:VCALENDAR
VERSION:2.0
X-WR-CALNAME:www.indybay.org
PRODID:-//indybay/ical// v1.0//EN
BEGIN:VEVENT
UID:Indybay-18831263
SEQUENCE:18983723
CREATED:20200303T045000Z
DESCRIPTION:Mikki Kendall, author of Hood Feminism and Amazons, Abolitions & Activists, 
 comes to San Francisco's longest-running spoken word series. She's joined 
 by Nancy Au, author of Spider Love Song. Also reading: Francesca Flores, 
 author of the young-adult fantasy novel Diamond City, Stephen van Dyck, 
 author of the memoir People I've Met From the Internet, and poet Miah 
 Jeffra (The First Church of What's Happening.) Charlie Jane Anders hosts.\n 
 https://www.indybay.org/newsitems/2020/03/02/18831263.php
SUMMARY:Canceled:  Writers With Drinks featuring Mikki Kendall
LOCATION:The Make Out Room, 3225 22nd St. 
URL:https://www.indybay.org/newsitems/2020/03/02/18831263.php
DTSTART:20200315T020000Z
DTEND:20200315T043000Z
END:VEVENT
END:VCALENDAR
