BEGIN:VCALENDAR
VERSION:2.0
X-WR-CALNAME:www.indybay.org
PRODID:-//indybay/ical// v1.0//EN
BEGIN:VEVENT
UID:Indybay-18831230
SEQUENCE:18983287
CREATED:20200301T234400Z
DESCRIPTION:Our guest speaker in March is Ann Ravel, the former chair of the Federal 
 Elections Commission (FEC), who will discuss the state of money in 
 politics, her views on Citizens United, and the impact of money in politics 
 and efforts to regulate it.\n\nDon’t miss this opportunity to look behind 
 the FEC’s regulatory curtain!\n\nPlease RSVP\n 
 https://www.indybay.org/newsitems/2020/03/01/18831230.php
SUMMARY:Swing Left SF March General Meeting
LOCATION:San Francisco Public Library Park Branch\n1833 Page St, San Francisco, 
 California 94117
URL:https://www.indybay.org/newsitems/2020/03/01/18831230.php
DTSTART:20200312T013000Z
DTEND:20200312T030000Z
END:VEVENT
END:VCALENDAR
