BEGIN:VCALENDAR
VERSION:2.0
X-WR-CALNAME:www.indybay.org
PRODID:-//indybay/ical// v1.0//EN
BEGIN:VEVENT
UID:Indybay-18831047
SEQUENCE:18982973
CREATED:20200225T200700Z
DESCRIPTION:A cross-disciplinary performance featuring choreographer Molissa Fenley, 
 poet Bob Holman and composer Keith Patchel, inspired by Henri Matisse’s 
 pioneering paper cut-outs. Matisse described his approach to creating these 
 colorful paper compositions as “drawing with scissors.” The performance 
 will be accompanied by an exhibition of Cut Outs from Matisse’s Jazz 
 Suite, from MCAM’s Print Collection, in Slide Space 123, curated by Mills 
 College Studio Art students.\n 
 https://www.indybay.org/newsitems/2020/02/25/18831047.php
SUMMARY:The Cut-Outs: Molissa Fenley, Bob Holman, Keith Patchel
LOCATION:Mills College Art Museum, Rothwell Theater
URL:https://www.indybay.org/newsitems/2020/02/25/18831047.php
DTSTART:20200314T220000Z
DTEND:20200314T220000Z
END:VEVENT
END:VCALENDAR
