BEGIN:VCALENDAR
VERSION:2.0
X-WR-CALNAME:www.indybay.org
PRODID:-//indybay/ical// v1.0//EN
BEGIN:VEVENT
UID:Indybay-18830840
SEQUENCE:18982646
CREATED:20200220T091900Z
DESCRIPTION: Organizing to Save Chelsea and Julian because of recent\nUN report .They 
 said 'Chelsea's and Julian's Solitary Confinement is Torture 
 "\n\nhttps://actionnetwork.org/petitions/sign-the-petition-free-chelsea-manning-now\n\n\n 
 https://www.indybay.org/newsitems/2020/02/20/18830840.php
SUMMARY:Gracias Chelsea&Julian for publishing Bush's War Crimes
LOCATION:Fruitvale and MacArthur Oakland 94602
URL:https://www.indybay.org/newsitems/2020/02/20/18830840.php
DTSTART:20200222T003000Z
DTEND:20200222T020000Z
END:VEVENT
END:VCALENDAR
