BEGIN:VCALENDAR
VERSION:2.0
X-WR-CALNAME:www.indybay.org
PRODID:-//indybay/ical// v1.0//EN
BEGIN:VEVENT
UID:Indybay-18830506
SEQUENCE:18982053
CREATED:20200207T220100Z
DESCRIPTION:Rain cxs\n https://www.indybay.org/newsitems/2020/02/07/18830506.php
SUMMARY:Sign Petition for Chelsea and Support Julian
LOCATION:FRUITVALE AND MACARTHUR OAKLAAND 94602
URL:https://www.indybay.org/newsitems/2020/02/07/18830506.php
DTSTART:20200208T000000Z
DTEND:20200208T013000Z
END:VEVENT
END:VCALENDAR
