BEGIN:VCALENDAR
VERSION:2.0
X-WR-CALNAME:www.indybay.org
PRODID:-//indybay/ical// v1.0//EN
BEGIN:VEVENT
UID:Indybay-18830476
SEQUENCE:18981989
CREATED:20200206T232900Z
DESCRIPTION:Set in the tumultuous upsurges of the 1960s and 70s, this unique book 
 records the forging of the first Marxist socialist feminist party in 
 history- the Freedom Socialist Party.\n\nRead Chapter 4: Radical Women's 
 affiliation with the Freedom Socialist Party; the importance of united 
 front organizing.\n\nEveryone welcome and free to join any time. $3-5.00 
 Donation per session.\n 
 https://www.indybay.org/newsitems/2020/02/06/18830476.php
SUMMARY:Revolutionary Feminist reading Group; Socialist Feminism:the First Decade by Gloria Martin
LOCATION:New Valencia Hall\n747 Polk Street\nSan Francisco\nCA
URL:https://www.indybay.org/newsitems/2020/02/06/18830476.php
DTSTART:20200325T020000Z
DTEND:20200325T033000Z
END:VEVENT
END:VCALENDAR
