BEGIN:VCALENDAR
VERSION:2.0
X-WR-CALNAME:www.indybay.org
PRODID:-//indybay/ical// v1.0//EN
BEGIN:VEVENT
UID:Indybay-18830364
SEQUENCE:18981877
CREATED:20200204T193500Z
DESCRIPTION:Author Erica Etelson will talk about her new book, Beyond Contempt: How 
 Liberals Can Communicate Across the Great Divide.\n\n 
 https://www.indybay.org/newsitems/2020/02/04/18830364.php
SUMMARY:How to talk across lines of political difference (without blowing a fuse)
LOCATION:Books, Inc., 1491 Shattuck Ave., Berkeley
URL:https://www.indybay.org/newsitems/2020/02/04/18830364.php
DTSTART:20200221T030000Z
DTEND:20200221T040000Z
END:VEVENT
END:VCALENDAR
