BEGIN:VCALENDAR
VERSION:2.0
X-WR-CALNAME:www.indybay.org
PRODID:-//indybay/ical// v1.0//EN
BEGIN:VEVENT
UID:Indybay-18830243
SEQUENCE:18981647
CREATED:20200131T195100Z
DESCRIPTION:INTERNATIONAL WOMEN'S DAY CELEBRATION in HAYWARD\n\nDate and Time: Friday, 
 March 13, 2020 @ 5:00 PM – 8:00 PM \n\nLocation: Hayward City Hall, 777 B 
 Street, Hayward, CA 94541\n\nCost: FREE\n\nThe Women's Vote 
 1920-2020\n\nJoin us for a celebration of women's achievements towards 
 gender equality, women's rights, social justice, economic empowerment, and 
 cultural changes over the past century, since American women got the right 
 to vote in 1920.\n\nFree Admission & Light Refreshments 
 Served\n\nReservations encouraged - Space is limited\n\nProgram 
 Schedule:\n\n5:00 PM Doors Open/ Check-in begins 1st Floor Rotunda\n\n5:15 
 PM - 6:30 PM Wine & International Buffet Reception\n\n6:30 PM - 8:00 PM 
 Program held in Council Chambers\n• Welcome by Hayward Mayor Barbara 
 Halliday\n• Featured Speakers (coming--check back at link)\n\nThanks to 
 our Sponsors:\n\nAlameda County Census\nCity of Hayward\nDining for 
 Women\nHayward Ghazni Sister City Committee\nHayward Unified School 
 District\nLeague of Women Voters Eden Area\nSoroptimist Int'l of the East 
 Bay\nAmerican Association of University Women - Hayward Castro Valley 
 Branch\n https://www.indybay.org/newsitems/2020/01/31/18830243.php
SUMMARY:International Women's Day 2020 Celebration in Hayward
LOCATION:Hayward City Hall, 777 B Street, Hayward, CA 94541
URL:https://www.indybay.org/newsitems/2020/01/31/18830243.php
DTSTART:20200314T000000Z
DTEND:20200314T030000Z
END:VEVENT
END:VCALENDAR
